BEGIN:VCALENDAR
VERSION:2.0
PRODID:-//hacksw/handcal//NONSGML v1.0//EN
BEGIN:VEVENT
UID:13184
DTSTART;VALUE=DATE:20191227
URL;VALUE=URI:ohschonhell.at/?page_id=29114
SUMMARY:Bassfabrique Hi-Tech Circus
LOCATION:VIPER ROOM
END:VEVENT
END:VCALENDAR


