BEGIN:VCALENDAR
VERSION:2.0
PRODID:-//hacksw/handcal//NONSGML v1.0//EN
BEGIN:VEVENT
UID:13218
DTSTART;VALUE=DATE:20191018
URL;VALUE=URI:ohschonhell.at/?page_id=29209
SUMMARY:Im Salon mit Freunden // Rote Bar
LOCATION:ROTE BAR
END:VEVENT
END:VCALENDAR


