BEGIN:VCALENDAR
VERSION:2.0
PRODID:-//hacksw/handcal//NONSGML v1.0//EN
BEGIN:VEVENT
UID:13239
DTSTART;VALUE=DATE:20191025
URL;VALUE=URI:ohschonhell.at/?page_id=29259
SUMMARY:Mutter International w/ Head High aka Shed
LOCATION:SASS
END:VEVENT
END:VCALENDAR


