BEGIN:VCALENDAR
VERSION:2.0
PRODID:-//hacksw/handcal//NONSGML v1.0//EN
BEGIN:VEVENT
UID:13252
DTSTART;VALUE=DATE:20191016
URL;VALUE=URI:ohschonhell.at/?page_id=29297
SUMMARY:Dedicated | Donautechno S02
LOCATION:DONAUTECHNO.COM
END:VEVENT
END:VCALENDAR


