BEGIN:VCALENDAR
VERSION:2.0
PRODID:-//hacksw/handcal//NONSGML v1.0//EN
BEGIN:VEVENT
UID:13259
DTSTART;VALUE=DATE:20191122
URL;VALUE=URI:ohschonhell.at/?page_id=29311
SUMMARY:Horst pres. | Stephan Bodzin (Live)
LOCATION:HORST
END:VEVENT
END:VCALENDAR


