BEGIN:VCALENDAR
VERSION:2.0
PRODID:-//hacksw/handcal//NONSGML v1.0//EN
BEGIN:VEVENT
UID:13261
DTSTART;VALUE=DATE:20191115
URL;VALUE=URI:ohschonhell.at/?page_id=29319
SUMMARY:20 Years of [dunkelbunt] - Balkan to Bollywood Edition
LOCATION:Fanialive
END:VEVENT
END:VCALENDAR


