BEGIN:VCALENDAR
VERSION:2.0
PRODID:-//hacksw/handcal//NONSGML v1.0//EN
BEGIN:VEVENT
UID:13303
DTSTART;VALUE=DATE:20191101
URL;VALUE=URI:ohschonhell.at/?page_id=29465
SUMMARY:Schurli´s B-Day FreeParty
LOCATION:Club Change
END:VEVENT
END:VCALENDAR


