BEGIN:VCALENDAR
VERSION:2.0
PRODID:-//hacksw/handcal//NONSGML v1.0//EN
BEGIN:VEVENT
UID:13306
DTSTART;VALUE=DATE:20191105
URL;VALUE=URI:ohschonhell.at/?page_id=29471
SUMMARY:Habitat Techno - Upcoming dates
LOCATION:Heart Club
END:VEVENT
END:VCALENDAR


