BEGIN:VCALENDAR
VERSION:2.0
PRODID:-//hacksw/handcal//NONSGML v1.0//EN
BEGIN:VEVENT
UID:13313
DTSTART;VALUE=DATE:20191122
URL;VALUE=URI:ohschonhell.at/?page_id=29487
SUMMARY:Kuba Sojka Live at Camera Club
LOCATION:CAMERA CLUB
END:VEVENT
END:VCALENDAR


