BEGIN:VCALENDAR
VERSION:2.0
PRODID:-//hacksw/handcal//NONSGML v1.0//EN
BEGIN:VEVENT
UID:13328
DTSTART;VALUE=DATE:20191213
URL;VALUE=URI:ohschonhell.at/?page_id=29536
SUMMARY:Road to: 10 years of Blackout - 2nd stop: X-MAS PRE PARTY
LOCATION:Club Change
END:VEVENT
END:VCALENDAR


