BEGIN:VCALENDAR
VERSION:2.0
PRODID:-//hacksw/handcal//NONSGML v1.0//EN
BEGIN:VEVENT
UID:13335
DTSTART;VALUE=DATE:20191108
URL;VALUE=URI:ohschonhell.at/?page_id=29552
SUMMARY:Kareem.Pfeifer (DJ Set) im Schikaneder
LOCATION:SCHIKANEDER
END:VEVENT
END:VCALENDAR


