BEGIN:VCALENDAR
VERSION:2.0
PRODID:-//hacksw/handcal//NONSGML v1.0//EN
BEGIN:VEVENT
UID:13336
DTSTART;VALUE=DATE:20191108
URL;VALUE=URI:ohschonhell.at/?page_id=29554
SUMMARY:FJU: im Kramladen
LOCATION:Kramladen
END:VEVENT
END:VCALENDAR


