BEGIN:VCALENDAR
VERSION:2.0
PRODID:-//hacksw/handcal//NONSGML v1.0//EN
BEGIN:VEVENT
UID:13353
DTSTART;VALUE=DATE:20191129
URL;VALUE=URI:ohschonhell.at/?page_id=29590
SUMMARY:Sounderground by Wiener Mischung
LOCATION:ELEKTRO GÖNNER
END:VEVENT
END:VCALENDAR


