BEGIN:VCALENDAR
VERSION:2.0
PRODID:-//hacksw/handcal//NONSGML v1.0//EN
BEGIN:VEVENT
UID:13366
DTSTART;VALUE=DATE:20191108
URL;VALUE=URI:ohschonhell.at/?page_id=29630
SUMMARY:Die lange Nacht der Kollektive im HORST w. Austrian Apparel (dj)
LOCATION:HORST
END:VEVENT
END:VCALENDAR


