BEGIN:VCALENDAR
VERSION:2.0
PRODID:-//hacksw/handcal//NONSGML v1.0//EN
BEGIN:VEVENT
UID:13369
DTSTART;VALUE=DATE:20191101
URL;VALUE=URI:ohschonhell.at/?page_id=29646
SUMMARY:Circa afterhours pres. the Halloween Horror Show
LOCATION:Heart Club
END:VEVENT
END:VCALENDAR


