BEGIN:VCALENDAR
VERSION:2.0
PRODID:-//hacksw/handcal//NONSGML v1.0//EN
BEGIN:VEVENT
UID:1337
DTSTART;VALUE=DATE:20140524
URL;VALUE=URI:ohschonhell.at/?page_id=3810
SUMMARY:VIS Nights: Fête Brut mit Wiener Festwochen: Klub Fraktal Live feat. Austrian Apparel
LOCATION:BRUT
END:VEVENT
END:VCALENDAR


