BEGIN:VCALENDAR
VERSION:2.0
PRODID:-//hacksw/handcal//NONSGML v1.0//EN
BEGIN:VEVENT
UID:13370
DTSTART;VALUE=DATE:20191031
URL;VALUE=URI:ohschonhell.at/?page_id=29648
SUMMARY:Männer im Rotlicht: Halloween Special - Zombies of the Caribbean
LOCATION:ROTE BAR
END:VEVENT
END:VCALENDAR


