BEGIN:VCALENDAR
VERSION:2.0
PRODID:-//hacksw/handcal//NONSGML v1.0//EN
BEGIN:VEVENT
UID:1338
DTSTART;VALUE=DATE:20140524
URL;VALUE=URI:ohschonhell.at/?page_id=3811
SUMMARY:S K U L L D I S C O ► issue #4
LOCATION:WIRR
END:VEVENT
END:VCALENDAR


