BEGIN:VCALENDAR
VERSION:2.0
PRODID:-//hacksw/handcal//NONSGML v1.0//EN
BEGIN:VEVENT
UID:13381
DTSTART;VALUE=DATE:20191111
URL;VALUE=URI:ohschonhell.at/?page_id=29704
SUMMARY:Another World #5 *Detroit Special
LOCATION:Heart Club
END:VEVENT
END:VCALENDAR


