BEGIN:VCALENDAR
VERSION:2.0
PRODID:-//hacksw/handcal//NONSGML v1.0//EN
BEGIN:VEVENT
UID:13391
DTSTART;VALUE=DATE:20191113
URL;VALUE=URI:ohschonhell.at/?page_id=29726
SUMMARY:Dedicated im Donautechno
LOCATION:DONAUTECHNO.COM
END:VEVENT
END:VCALENDAR


