BEGIN:VCALENDAR
VERSION:2.0
PRODID:-//hacksw/handcal//NONSGML v1.0//EN
BEGIN:VEVENT
UID:13392
DTSTART;VALUE=DATE:20191123
URL;VALUE=URI:ohschonhell.at/?page_id=29728
SUMMARY:Wiener Mischung zum Zweiten
LOCATION:DONAUTECHNO.COM
END:VEVENT
END:VCALENDAR


