BEGIN:VCALENDAR
VERSION:2.0
PRODID:-//hacksw/handcal//NONSGML v1.0//EN
BEGIN:VEVENT
UID:13394
DTSTART;VALUE=DATE:20191115
URL;VALUE=URI:ohschonhell.at/?page_id=29732
SUMMARY:Drumworks presents Paul SG (Jazzsticks Recordings)
LOCATION:Black Market
END:VEVENT
END:VCALENDAR


