BEGIN:VCALENDAR
VERSION:2.0
PRODID:-//hacksw/handcal//NONSGML v1.0//EN
BEGIN:VEVENT
UID:13395
DTSTART;VALUE=DATE:20191116
URL;VALUE=URI:ohschonhell.at/?page_id=29734
SUMMARY:Mohawk Soundz
LOCATION:Black Market
END:VEVENT
END:VCALENDAR


