BEGIN:VCALENDAR
VERSION:2.0
PRODID:-//hacksw/handcal//NONSGML v1.0//EN
BEGIN:VEVENT
UID:13400
DTSTART;VALUE=DATE:20191115
URL;VALUE=URI:ohschonhell.at/?page_id=29744
SUMMARY:Tekk meets French *vol 14*
LOCATION:Club Change
END:VEVENT
END:VCALENDAR


