BEGIN:VCALENDAR
VERSION:2.0
PRODID:-//hacksw/handcal//NONSGML v1.0//EN
BEGIN:VEVENT
UID:13401
DTSTART;VALUE=DATE:20191116
URL;VALUE=URI:ohschonhell.at/?page_id=29746
SUMMARY:Freaked Session •Yowii / AnatomiX
LOCATION:Event Arena Vösendorf
END:VEVENT
END:VCALENDAR


