BEGIN:VCALENDAR
VERSION:2.0
PRODID:-//hacksw/handcal//NONSGML v1.0//EN
BEGIN:VEVENT
UID:13414
DTSTART;VALUE=DATE:20191224
URL;VALUE=URI:ohschonhell.at/?page_id=29774
SUMMARY:PeaceSpirit ★ Art-Club ★ Holy Night
LOCATION:Heart Club
END:VEVENT
END:VCALENDAR


