BEGIN:VCALENDAR
VERSION:2.0
PRODID:-//hacksw/handcal//NONSGML v1.0//EN
BEGIN:VEVENT
UID:13424
DTSTART;VALUE=DATE:20191130
URL;VALUE=URI:ohschonhell.at/?page_id=29796
SUMMARY:Viennalizm [w/ Peter Zirbs | Fabrique Records]
LOCATION:Kramladen
END:VEVENT
END:VCALENDAR


