BEGIN:VCALENDAR
VERSION:2.0
PRODID:-//hacksw/handcal//NONSGML v1.0//EN
BEGIN:VEVENT
UID:13425
DTSTART;VALUE=DATE:20191203
URL;VALUE=URI:ohschonhell.at/?page_id=29798
SUMMARY:das techno cafe Winter Party
LOCATION:VOLKSGARTEN
END:VEVENT
END:VCALENDAR


