BEGIN:VCALENDAR
VERSION:2.0
PRODID:-//hacksw/handcal//NONSGML v1.0//EN
BEGIN:VEVENT
UID:13483
DTSTART;VALUE=DATE:20191213
URL;VALUE=URI:ohschonhell.at/?page_id=29944
SUMMARY:Balkan to Bollywood - [dunkelbunt] Vienna Tapes Release Party
LOCATION:Fanialive
END:VEVENT
END:VCALENDAR


