BEGIN:VCALENDAR
VERSION:2.0
PRODID:-//hacksw/handcal//NONSGML v1.0//EN
BEGIN:VEVENT
UID:13487
DTSTART;VALUE=DATE:20191227
URL;VALUE=URI:ohschonhell.at/?page_id=29953
SUMMARY:Techno Special Dave Clarke | HORST
LOCATION:HORST
END:VEVENT
END:VCALENDAR


