BEGIN:VCALENDAR
VERSION:2.0
PRODID:-//hacksw/handcal//NONSGML v1.0//EN
BEGIN:VEVENT
UID:13493
DTSTART;VALUE=DATE:20191208
URL;VALUE=URI:ohschonhell.at/?page_id=29965
SUMMARY:Kein Sonntag Ohne Techno - Verlassene Tanzschule
LOCATION:ROTE BAR
END:VEVENT
END:VCALENDAR


