BEGIN:VCALENDAR
VERSION:2.0
PRODID:-//hacksw/handcal//NONSGML v1.0//EN
BEGIN:VEVENT
UID:13505
DTSTART;VALUE=DATE:20191214
URL;VALUE=URI:ohschonhell.at/?page_id=30027
SUMMARY:Vollkrass Vollgas part 2
LOCATION:Club Change
END:VEVENT
END:VCALENDAR


