BEGIN:VCALENDAR
VERSION:2.0
PRODID:-//hacksw/handcal//NONSGML v1.0//EN
BEGIN:VEVENT
UID:13507
DTSTART;VALUE=DATE:20191207
URL;VALUE=URI:ohschonhell.at/?page_id=30033
SUMMARY:Lieber Vormittags // Techno Entgleist Afterhour
LOCATION:Black Market
END:VEVENT
END:VCALENDAR


