BEGIN:VCALENDAR
VERSION:2.0
PRODID:-//hacksw/handcal//NONSGML v1.0//EN
BEGIN:VEVENT
UID:13509
DTSTART;VALUE=DATE:20191220
URL;VALUE=URI:ohschonhell.at/?page_id=30054
SUMMARY:Weihn8
LOCATION:OPERA CLUB
END:VEVENT
END:VCALENDAR


