BEGIN:VCALENDAR
VERSION:2.0
PRODID:-//hacksw/handcal//NONSGML v1.0//EN
BEGIN:VEVENT
UID:13510
DTSTART;VALUE=DATE:20191220
URL;VALUE=URI:ohschonhell.at/?page_id=30056
SUMMARY:Löwenzahn Wien | Digital meets Analog w/ Taktleger &amp\; Marcus Tik
LOCATION:Kramladen
END:VEVENT
END:VCALENDAR


