BEGIN:VCALENDAR
VERSION:2.0
PRODID:-//hacksw/handcal//NONSGML v1.0//EN
BEGIN:VEVENT
UID:13515
DTSTART;VALUE=DATE:20191214
URL;VALUE=URI:ohschonhell.at/?page_id=30066
SUMMARY:Acid Resistance (Colombia) // Black Market
LOCATION:Black Market
END:VEVENT
END:VCALENDAR


