BEGIN:VCALENDAR
VERSION:2.0
PRODID:-//hacksw/handcal//NONSGML v1.0//EN
BEGIN:VEVENT
UID:13517
DTSTART;VALUE=DATE:20191228
URL;VALUE=URI:ohschonhell.at/?page_id=30070
SUMMARY:Puppenhouse &amp\; 35 Grad
LOCATION:Black Market
END:VEVENT
END:VCALENDAR


