BEGIN:VCALENDAR
VERSION:2.0
PRODID:-//hacksw/handcal//NONSGML v1.0//EN
BEGIN:VEVENT
UID:1352
DTSTART;VALUE=DATE:20140523
URL;VALUE=URI:ohschonhell.at/?page_id=3826
SUMMARY:Lighthouse Festival 2014
LOCATION:LIGHTHOUSE FESTIVAL
END:VEVENT
END:VCALENDAR


