BEGIN:VCALENDAR
VERSION:2.0
PRODID:-//hacksw/handcal//NONSGML v1.0//EN
BEGIN:VEVENT
UID:13522
DTSTART;VALUE=DATE:20200110
URL;VALUE=URI:ohschonhell.at/?page_id=30081
SUMMARY:Horst vom Park ∆ Niko Schwind (Stil vor Talent)
LOCATION:HORST
END:VEVENT
END:VCALENDAR


