BEGIN:VCALENDAR
VERSION:2.0
PRODID:-//hacksw/handcal//NONSGML v1.0//EN
BEGIN:VEVENT
UID:13536
DTSTART;VALUE=DATE:20191214
URL;VALUE=URI:ohschonhell.at/?page_id=30109
SUMMARY:LAST SoulSugar at Volkstheater
LOCATION:ROTE BAR
END:VEVENT
END:VCALENDAR


