BEGIN:VCALENDAR
VERSION:2.0
PRODID:-//hacksw/handcal//NONSGML v1.0//EN
BEGIN:VEVENT
UID:13537
DTSTART;VALUE=DATE:20191214
URL;VALUE=URI:ohschonhell.at/?page_id=30111
SUMMARY:Kw33Sa w/ Et Kin Dj
LOCATION:The Real White Rabbit
END:VEVENT
END:VCALENDAR


