BEGIN:VCALENDAR
VERSION:2.0
PRODID:-//hacksw/handcal//NONSGML v1.0//EN
BEGIN:VEVENT
UID:13549
DTSTART;VALUE=DATE:20191205
URL;VALUE=URI:ohschonhell.at/?page_id=30137
SUMMARY:HORST Weihnachtsfeier mit Oliver Koletzki &amp\; Giorgia Angiuli
LOCATION:HORST
END:VEVENT
END:VCALENDAR


