BEGIN:VCALENDAR
VERSION:2.0
PRODID:-//hacksw/handcal//NONSGML v1.0//EN
BEGIN:VEVENT
UID:13559
DTSTART;VALUE=DATE:20191220
URL;VALUE=URI:ohschonhell.at/?page_id=30171
SUMMARY:Drumworks at Black Market - 20.12.19
LOCATION:Black Market
END:VEVENT
END:VCALENDAR


