BEGIN:VCALENDAR
VERSION:2.0
PRODID:-//hacksw/handcal//NONSGML v1.0//EN
BEGIN:VEVENT
UID:13560
DTSTART;VALUE=DATE:20191221
URL;VALUE=URI:ohschonhell.at/?page_id=30173
SUMMARY:███ Undrgrnd:001 ███ Sutter Cane / Antrax / Xlchxmxst
LOCATION:Black Market
END:VEVENT
END:VCALENDAR


