BEGIN:VCALENDAR
VERSION:2.0
PRODID:-//hacksw/handcal//NONSGML v1.0//EN
BEGIN:VEVENT
UID:13561
DTSTART;VALUE=DATE:20191222
URL;VALUE=URI:ohschonhell.at/?page_id=30175
SUMMARY:System A hosted by Dynamic events
LOCATION:Black Market
END:VEVENT
END:VCALENDAR


