BEGIN:VCALENDAR
VERSION:2.0
PRODID:-//hacksw/handcal//NONSGML v1.0//EN
BEGIN:VEVENT
UID:13564
DTSTART;VALUE=DATE:20200323
URL;VALUE=URI:ohschonhell.at/?page_id=30181
SUMMARY:Hauschka | Wiener Konzerthaus
LOCATION:Wiener Konzerthaus
END:VEVENT
END:VCALENDAR


