BEGIN:VCALENDAR
VERSION:2.0
PRODID:-//hacksw/handcal//NONSGML v1.0//EN
BEGIN:VEVENT
UID:13571
DTSTART;VALUE=DATE:20200131
URL;VALUE=URI:ohschonhell.at/?page_id=30195
SUMMARY:Beat It
LOCATION:FLEX
END:VEVENT
END:VCALENDAR


