BEGIN:VCALENDAR
VERSION:2.0
PRODID:-//hacksw/handcal//NONSGML v1.0//EN
BEGIN:VEVENT
UID:1358
DTSTART;VALUE=DATE:20140522
URL;VALUE=URI:ohschonhell.at/?page_id=3832
SUMMARY:## GÄSTELISTE: Donnerstag ist das neue Schwarz hosted by DEEP BAKED
LOCATION:SASS
END:VEVENT
END:VCALENDAR


