BEGIN:VCALENDAR
VERSION:2.0
PRODID:-//hacksw/handcal//NONSGML v1.0//EN
BEGIN:VEVENT
UID:13583
DTSTART;VALUE=DATE:20200111
URL;VALUE=URI:ohschonhell.at/?page_id=30221
SUMMARY:Psy Palace – 4 YEARS Crispy Chaos Crew
LOCATION:THE PALACE
END:VEVENT
END:VCALENDAR


