BEGIN:VCALENDAR
VERSION:2.0
PRODID:-//hacksw/handcal//NONSGML v1.0//EN
BEGIN:VEVENT
UID:13596
DTSTART;VALUE=DATE:20200103
URL;VALUE=URI:ohschonhell.at/?page_id=30247
SUMMARY:Lost in Bass
LOCATION:ELEKTRO GÖNNER
END:VEVENT
END:VCALENDAR


